Workbook
Name __xlnm.Print_Area: 'Ověření návrhu'!$A$2:$G$10
Name NormaIEC: #REF!
Name Print_Area: 'Krycí list'!$A$1:$M$39
Name Print_Area: 'Prohlášení o shodě'!$A$1:$N$26
Name VyrCislo: #REF!
Name Vyrobce: #REF!

Sheet Krycí list
B2: Ověření návrhu dle ČSN EN IEC 61439 Část 1: ed. 3 - Obecná ustanovení Část 2: ed. 3 - Výkonové rozváděče Krycí list - Ověření návrhu 1/1
B4: Výrobce rozváděče: Switchgear assembly manufacturer: | D4: Vzor dokumentu. Plnou verzi vám rádi zašleme po registraci. | K4: Číslo dokumentu: Serial number:
B5: Adresa: Address: | D5: Příčná 323 | K5: xxxxxxxxxxx
B6: PSČ, Město: Zip code, City: | D6: 111 50, Praha | K6: Název rozváděče: Switchgear name:
B7: Email: Email: | D7: Vaše emailová adresa | K7: RH 1
B10: 5.2.1. Jmenovité napětí rozváděče: | I10: Un | J10: 400 | L10: V
B11: 5.2.2. Jmenovité pracovní napětí obvodu rozváděče: | I11: Ue | J11: 400 | L11: V
B12: 5.2.3. Jmenovité izolační napětí obvodu rozváděče: | I12: Ui | J12: 440 | L12: V
B13: 5.2.4. Jmenovité impulzní výdržné napětí rozváděče: | I13: Uimp | J13: 4 | L13: kV
B14: 5.3.1. Jmenovitý proud rozváděče: | I14: Ina | J14: 250 | L14: A
B15: 5.3.2. Jmenovitý proud obvodu: | I15: Inc | J15: --- | L15: A
B16: 5.3.3. Skupinový jmenovitý proud hlavního obvodu: | I16: Ing | J16: 200 | L16: A
B17: 5.3.4. Jmenovitý dynymický výdržný proud: | I17: Ipk | J17: 17 | L17: kA
B18: 5.3.5. Jmenovitý krátkodobý výdržný proud hlavního obvodu rozváděče: | I18: Icw | J18: 10 | K18: kA | L18: 1 s
B19: 5.3.6. Jmenovitý podmíněný zkratový proud rozváděče nebo obvodu rozváděče: | I19: Icc | J19: 10 | L19: kA
B20: 5.4 Jmenovitý činitel nesoudobosti: | I20: RDF | J20: 0.8
B21: 5.5 Jmenovitý kmitočet: | I21: fn | J21: 50 | L21: Hz
B22: 5.6 a) doplňující požadavky | J22: Žádné
B23: 5.6 b) stupeň znečištění makroprostředí | J23: 3
B24: 5.6 c) způsob uzemnění sítě | J24: TN-C-S
B25: 5.6 d) vnitřní nebo venkovní instalace | J25: Vnitřní
B26: 5.6 e) stabilní nebo mobilní | J26: Stabilní
B27: 5.6 f) stupeň ochrany | I27: IP | J27: 54
B28: 5.6 g) určený pro používání laiky nebo oprávněnými osobami | J28: Osoba ZNALÁ
B29: 5.6 h) třídění elektromognetické kompatibility | I29: EMC | J29: Prostředí A
B30: 5.6 i) zvláštní provozní podmínky | J30: Žádné
B31: 5.6 j) vnější konstrukce | J31: Skříňový rozváděč
B32: 5.6 k) stupeň ochrany proti mechanickým rázům | I32: IK | J32: 07
B33: 5.6 l) typ konstrukce - pevné nebo odnímatelné části | J33: Výsuvné části
B34: 5.6 m) druh přístroje jistícího před zkratem | J34: Jistič
B35: 5.6 n) opatření pro ochranu před elektrickým proudem | H35: Základní ochrana: | J35: Přepážky nebo skříně
H36: Ochrana při poruše: | J36: Automatickým odpojením
B37: 5.6 o) celkové rozměry | D37: Šířka: | E37: 1200 | F37: mm | G37: Výška: | H37: 2200 | I37: mm | J37: Hloubka: | K37: 600 | L37: mm
B38: 5.6 p) hmotnost | J38: 100 | L38: kg

Sheet Ověření návrhu
B2: Ověření návrhu dle ČSN EN IEC 61439 Část 1: ed. 3 - Obecná ustanovení Část 2: ed. 3 - Výkonové rozváděče
B3: 1/2
B5: Výrobce rozváděče: Switchgear assembly manufacturer: | D5: ='Krycí list'!D4 -> Vzor dokumentu. Plnou verzi vám rádi zašleme po registraci. | G5: Číslo dokumentu: Serial number:
B6: Adresa: Address: | D6: ='Krycí list'!$D$5 -> Příčná 323 | G6: ='Krycí list'!$K$5 -> xxxxxxxxxxx
B7: PSČ, Město: Zip code, City: | D7: ='Krycí list'!$D$6 -> 111 50, Praha | G7: Název rozváděče: Switchgear name:
B8: Email: Email: | D8: ='Krycí list'!$D$7 -> Vaše emailová adresa | G8: ='Krycí list'!$K$7 -> RH 1
B10: Článek | C10: Označení ověření | D10: Kritérium | E10: Metoda ověřování | F10: Produkt - RITTAL (vyberte / doplňte) | G10: Číslo zprávy
B11: 10.2.2 | C11: Odolnost proti korozi | D11: Zkouška náročnosti A pro istalaci ve vnitřních prostorách | E11: Zkouška | F11: AX - Kompaktní rozváděčové skříně - ocelový plech | G11: =VLOOKUP(F11,List1!$A$2:$B$17,2,0) -> DRI191653300
B12: 10.2.3.1 | C12: Ověřování tepelné stability skříní | D12: 70°C po dobu 168 h s dobou regenerace 96 h | E12: Zkouška | F12: =F11 -> AX - Kompaktní rozváděčové skříně - ocelový plech | G12: =G11 -> DRI191653300
B13: 10.2.3.2 | C13: Ověřování odolnosti izolačních materiálů proti nadměrnému teplu, vzplanutí a šíření plamene v důsledku vnitřních jevů | D13: 960°C pro části nutné pro udržení proudových částí v jejich poloze 850°Cpro skříně určené pro namontování do dutých příček 650°C pro všechny ostatní části | E13: Hodnocení | F13: SV komponenty Rittal | G13: Ověření pomocí poskytnutých údajů od výrobce
B14: 10.2.4 | C14: Odolnost proti ultrafialovému (UV) záření | D14: UV odolnost nutná jen pro venkovní instalaci | E14: Zkouška | F14: =F11 -> AX - Kompaktní rozváděčové skříně - ocelový plech | G14: =G11 -> DRI191653300
B15: 10.2.5 | C15: Zvedání | D15: Průběh zkoušky s max. mechanickým zatížením | E15: Zkouška | F15: =F11 -> AX - Kompaktní rozváděčové skříně - ocelový plech | G15: =G11 -> DRI191653300
B16: 10.2.6 | C16: Mechanický náraz | D16: =Štítek!$K$15 -> IK 07 | E16: Zkouška | F16: =F11 -> AX - Kompaktní rozváděčové skříně - ocelový plech | G16: =G11 -> DRI191653300
B17: 10.2.7 | C17: Značení | D17: Popis barvou/inkoustem | E17: Zkouška | F17: =IF(D17="Popis barvou/inkoustem","Výrobce tiskárny",IF(D17="---","---","Není vyžadováno")) -> Výrobce tiskárny | G17: XXXXXXXX
B18: 10.3 | C18: Stupeň ochrany rozváděčů | D18: =Štítek!$M$15 -> IP 54 | E18: Zkouška | F18: =F11 -> AX - Kompaktní rozváděčové skříně - ocelový plech | G18: =G11 -> DRI191653300
B19: 10.4 | C19: Vzdušné vzdálenosti | D19: --- | E19: Zkouška | F19: Rittal VX25 Ri4Power | G19: =VLOOKUP(F19,List1!A20:B23,2,0) -> LAB 2018-0141502 dle použitých přístrojů
B20: 10.4 | C20: Povrchové cesty PD = Stupeň znečištění MG = Skupina materiálů | D20: 16,0 mm pro Ui 1000 V, St.Zn. III, Sk.M. IIIa | E20: Zkouška | F20: =F19 -> Rittal VX25 Ri4Power | G20: =G19 -> LAB 2018-0141502 dle použitých přístrojů
B21: 10.5.2 | C21: Účinná spojitost uzemnění neživých částí rozváděče a ochranného obvodu | D21: < 0,1 Ω | E21: Zkouška | F21: Rittal PE-Systém Maxi-PLS 1600 (45S) Icw do 60kA /Ipk do 133kA | G21: =IF(F21=" ---",G18,VLOOKUP(F21,List1!A43:B50,2,0)) -> 07257-17-0610
B22: 10.5.3 | C22: Zkratová odolnost ochranného obvodu | D22: Do 60 kA se systémem PE- 80x10 mm - Rittal, pro hlavní sběrnice až do 100 kA | E22: Zkouška | F22: =F21 -> Rittal PE-Systém Maxi-PLS 1600 (45S) Icw do 60kA /Ipk do 133kA | G22: =G21 -> 07257-17-0610
B25: Ověření návrhu dle ČSN EN IEC 61439 Část 1: ed. 3 - Obecná ustanovení Část 2: ed. 3 - Výkonové rozváděče
B26: 2/2
B28: Výrobce rozváděče: Switchgear assembly manufacturer: | D28: =$D$5 -> Vzor dokumentu. Plnou verzi vám rádi zašleme po registraci. | F28: Číslo dokumentu: Serial number:
B29: Adresa: Address: | D29: ='Krycí list'!$D$5 -> Příčná 323 | F29: ='Krycí list'!$I$5 -> 0
B30: PSČ, Město: Zip code, City: | D30: ='Krycí list'!$D$6 -> 111 50, Praha | F30: Název rozváděče: Switchgear name:
B31: Email: Email: | D31: ='Krycí list'!$D$7 -> Vaše emailová adresa | F31: ='Krycí list'!$I$7 -> 0
B32: PSČ, Město: Zip code, City:
B33: Článek | C33: Označení ověření | D33: Kritérium | E33: Metoda ověřování | F33: Produkt - RITTAL (vyberte / doplňte) | G33: Číslo zprávy
B34: 10.6 | C34: Vestavění spínacích přístrojů a součástí | D34: Splnění konstrukčních požadavků uvedených v 8.5 na vestavění spínacích přístrojů a součástí | E34: Hodnocení prohlídkou | F34: Zpráva | G34: Kontrolní seznam 10.6
B35: 10.7 | C35: Vnitřní elektrické obvody a spoje | D35: Splnění konstrukčních požadavků uvedených v 8.6 na vnitřní elektrické obvody a spoje | E35: Hodnocení prohlídkou | F35: Zpráva | G35: Kontrolní seznam 10.7
B36: 10.8 | C36: Svorky pro vnější vodiče | D36: Splnění konstrukčních požadavků uvedených v 8.8 na svorky pro vnější vodiče | E36: Hodnocení prohlídkou | F36: Zpráva | G36: Kontrolní seznam 10.8
B37: 10.9.2 | C37: Výdržné napětí průmyslového kmitočtu | D37: Hlavní obvody (tabulka 8, ČSN EN 61439-1) | E37: Zkouška | F37: 2200V AC/3110V DC pro 800V < Ui < 1000V | G37: =VLOOKUP(F37,List1!A145:B150,2,0) -> 243/2011
D38: Pomocné a řídící obvody (tabulka 9, ČSN EN 61439-1) | E38: Zkouška | F38: 60 V < Ui - Viz tabulka 8 ČSN EN 61439-1 ed.2 | G38: =VLOOKUP(F38,List1!A152:B155,2,0) -> 243/2011
B39: 10.9.3 | C39: Impulzní výdržné napětí | D39: U1,2/50' 4,8 kV pro Uimp 4,0 kV | E39: Zkouška impulzním výdržným napětím | F39: Riline 60/Maxi-PLS | G39: =VLOOKUP(F39,List1!A166:B167,2,0) -> 1579.2100.157.0530
B40: 10.9.4 | C40: Zkoušení skříní vyrobených z izolačního materiálu | D40: 2837 V AC (1,5*1890 V AC) pro 300 V ≤ Ui ≤ 690 V | E40: Není vyžadováno | G40: Není vyžadováno
B41: 10.10 | C41: Ověřování oteplení | D41: Výpočtem dle 10.10.4 - Ověření je dosaženo, je-li vypočtená vnitřní teplota v rozváděčí (poli rozváděče) nižší, než je dovolená provozní teplota použitých součástí. | E41: =VLOOKUP(D41,List1!A53:B56,2,0) -> Výpočet (hodnocení) do 1600 A | F41: Zkouška / Referenční typ / Zpráva | G41: XXXXXXXX
B42: 10.11 | C42: Zkratová odolnost hlavních přípojnic | D42: Ověřování dodržením jmenovitých hodnot zkratového proudu | E42: Zkouška | F42: Rittal Rozteč 185mm 3052000 Icw do 52,5kA / Ipk do 115,5kA | G42: =VLOOKUP(F42,List1!A172:B186,2,0) -> 274.96; 1579.0949.6.474 1579.1373.7.782; 1579.1373.771 1579.2080903.413 viz graf vzdálenosti držáků
C43: Zkratová odolnost držák N 9686.300 | D43: Ověřování dodržením jmenovitých hodnot zkratového proudu | E43: Zkouška | F43: VX25Ri4Power 4x50x10 Icw do 60kA / Ipk do 132kA | G43: =VLOOKUP(F43,List1!A188:B189,2,0) -> 2018-0141502
B44: 10.12 | C44: Elektromagnetická kompatibilita (EMC) | D44: ='Krycí list'!$J$29 -> Prostředí A | E44: Ověřování návrhu není vyžadováno | G44: ČSN EN 61439-1 J.9.4.2
B45: 10.13 | C45: Mechanická funkce | D45: Ověřování mechanické funkce | E45: Ověřování návrhu není vyžadováno | G45: Není vyžadováno

Sheet Prohlášení o shodě
B2: EU prohlášení o shodě Prohlašujeme na svou výlučnou odpovědnost, že výrobek splňuje požadavky všech technických předpisů a že splňuje níže uvedené technické požadvky. Výrobek: Nízkonapěťový rozváděč
B4: Výrobce rozváděče: Switchgear assembly manufacturer: | D4: ='Krycí list'!D4 -> Vzor dokumentu. Plnou verzi vám rádi zašleme po registraci. | J4: Výrobní číslo: Document-No.:
B5: Adresa: Address: | D5: ='Krycí list'!$D$5 -> Příčná 323 | J5: xxxxxxxxxxx
B6: PSČ, Město: Zip code, City: | D6: ='Krycí list'!$D$6 -> 111 50, Praha | J6: Název rozváděče: Switchgear name:
B7: Email: Email: | D7: ='Krycí list'!$D$7 -> Vaše emailová adresa | J7: ='Krycí list'!$K$7 -> RH 1
B10: Shoda s nařízeními: | G10: Směrnice EP a Rady 2014/35/EU, Nařízení vlády č. 118/2016 Sb. Směrnice EP a Rady 2014/30/EU, Nařízení vlády č. 117/2016 Sb.
B12: Aplikované harmonizované normy: | G12: ČSN EN 61439-1 ed.3, ČSN EN 61439-2 ed.3 IEC 61439-1:2021, IEC 61439-2:2021
B14: Poslední dvojčíslí roku, v němž bylo zařízení opatřeno označením CE*): | J14: xx
B23: *) Ve spojení s viditelným označením výrobce na rozváděči nízkého napětí, v daném případě viditelné až po otevření dveří.
B25: V | G25: Dne | I25: Jméno a Podpis

Sheet Štítek
L2: ='Krycí list'!$I$7 -> 0
B6: ='Krycí list'!$D$4 -> Vzor dokumentu. Plnou verzi vám rádi zašleme po registraci.
B7: ='Krycí list'!$D$5 -> Příčná 323 | K7: Výrobní číslo
B8: ='Krycí list'!$D$6 -> 111 50, Praha | K8: ='Prohlášení o shodě'!$J$5 -> xxxxxxxxxxx
G9: Síť | K9: Datum výroby
B10: IEC 61439-2 | G10: ='Krycí list'!$J$24 -> TN-C-S
B11: Un | E11: InA | H11: Icw | K11: Frekvence | M11: Hmotnost
B13: ='Krycí list'!J10&" "&'Krycí list'!L10 -> 400 V | E13: ='Krycí list'!J14&" "&'Krycí list'!L14 -> 250 A | H13: ='Krycí list'!J18&" kA / "&'Krycí list'!L18 -> 10 kA / 1 s | K13: ='Krycí list'!J21&" "&'Krycí list'!L21 -> 50 Hz | M13: ='Krycí list'!J38&" "&'Krycí list'!L38 -> 100 kg
M14: Stupeň krytí
B15: Rozměry | D15: ='Krycí list'!E37&" mm x "&'Krycí list'!K37&" mm x "&'Krycí list'!H37&" mm" -> 1200 mm x 600 mm x 2200 mm | K15: ='Krycí list'!I32&" "&'Krycí list'!J32 -> IK 07 | M15: ='Krycí list'!I27&" "&'Krycí list'!J27 -> IP 54

Sheet Pom1
A1: --- | B1: 1 | C1: --- | D1: --- | E1: --- | F1: --- | G1: --- | H1: --- | I1: --- | J1: --- | K1: --- | L1: ---
A2: ≤ 2,5 | B2: 2 | C2: TN-C | D2: Vnitřní | E2: Stabilní | F2: 1X | G2: Osoba ZNALÁ | H2: Prostředí A | I2: Skříňový rozváděč | J2: 01 | K2: Pevné části | L2: Jistič
A3: 4 | B3: 3 | C3: TN-S | D3: Venkovní | E3: Mobilní | F3: 10 | G3: Osoba POUČENÁ | H3: Prostředí B | I3: Pultový rozváděč | J3: 02 | K3: Odnímatelné části | L3: Pojistka
A4: 6 | B4: 4 | C4: TN-C-S | F4: 2X | G4: LAIK | I4: Rozvodnice | J4: 03 | K4: Výsuvné části | L4: Bez ochrany
A5: 8 | C5: IT | F5: 20 | I5: Nástěnný rozváděč | J5: 04
A6: 12 | C6: TT | F6: 20 - s aktivní ventilací | I6: Zapuštěný rozváděč | J6: 05
F7: 4X | J7: 06
F8: 42 | J8: 07
F9: 43 | J9: 08
F10: 44 | J10: 09
F11: 54 | J11: 10
F12: 54 - s aktivní ventilací
F13: 55
F14: 66

Sheet List1
A1: Sloupec1 | B1: Sloupec2
A2: --- | B2: ---
A3: KX - Svorkovnicové skříňky | B3: DRI2016582DE
A4: AX - Kompaktní rozváděčové skříně - ocelový plech | B4: DRI191653300
A5: AX - Plastové rozváděčové skříně | B5: DRI2116708CS
A6: AE - Kompaktní rozváděčové skříně - nerez ocel | B6: DRI161611500
A7: HD - Svorkovnicové skříně | B7: DRI221721300
A8: HD - Kompaktní rozváděčové skříně | B8: DRI221721400
A9: VX25 - Systém řadových skříní | B9: DRI191653100
A10: VX SE - Samostatně stojící systémové skříně | B10: DRI221711900
A11: EL - Nástěnné skříňky | B11: DRI2016576DE
A12: TP - Systémy TopPult | B12: DRI2116774DE
... A15: CS Toptec - Venkovní skříně | B15: DRI2016670CS
A18: 10.4 - vzdušné vzdálenosti
A20: --- | B20: ---
A21: Rittal RiLine 60 | B21: 1579.0263.7.163; 1579.0797.5.293 dle použitých přístrojů
A22: Rittal Maxi-PLS | B22: 1579.1373.7.782; 1579.1373.7.771 dle výrobce přístrojů
A23: Rittal VX25 Ri4Power | B23: LAB 2018-0141502 dle použitých přístrojů
A25: ---
A26: 1,5 mm pro Uimp 2,5 kV
A27: 3,0 mm pro Uimp 4,0 kV
A28: 5,5 mm pro Uimp 6,0 kV
A29: 8,0 mm pro Uimp 8,0 kV
A30: 14,0 mm pro Uimp 12,0 kV
A33: ---
A34: 4,0 mm pro Ui 250 V, St.Zn. III, Sk.M. IIIa
A35: 6,3 mm pro Ui 400 V, St.Zn. III, Sk.M. IIIa
A36: 8,0 mm pro Ui 500 V, St.Zn. III, Sk.M. IIIa
A37: 16,0 mm pro Ui 1000 V, St.Zn. III, Sk.M. IIIa
A38: 20,0 mm pro Ui 1250 V, St.Zn. III, Sk.M. IIIa
A39: 25,0 mm pro Ui 1600 V, St.Zn. III, Sk.M. IIIa
A42: --- | B42: ---
A43: Rittal PE-Systém 1x30x5 Icw do 25kA /Ipk do 52,5kA | B43: 10081-19-0342
A44: Rittal PE-Systém 1x30x10 Icw do 30kA /Ipk do 105kA | B44: 09750-19-0064
A45: Rittal PE-Systém 2x30x10 Icw do 65,7kA /Ipk do 105kA | B45: 08735-018-0550
A46: Rittal PE-Systém 1x40x10 Icw do 44,1kA /Ipk do 105kA | B46: 09750-19-0064
A47: Rittal PE-Systém 1x80x10 Icw do 60kA /Ipk do 105kA | B47: 08735-018-0549
A48: Rittal PE-Systém Maxi-PLS 1600 (45S) Icw do 60kA /Ipk do 133kA | B48: 07257-17-0610
A49: Rittal PE-Systém Maxi-PLS 2000 (45) Icw do 60kA /Ipk do 133kA | B49: 07257-17-0610
A50: Rittal PE-Systém Maxi-PLS 3200 (60) Icw do 60kA /Ipk do 133kA | B50: 07257-17-0610
...
