Workbook
Name Print_Area: '11.5-7'!$A$1:$J$26
Name Print_Area: RV!$A$1:$M$35

Sheet RV
B2: Kusové ověřování / Routine Verification Sériově vyráběný a odzkoušený stavebnicový systém pro výrobu nízkonapěťových rozváděčů, projektovaný, instalovaný a odzkoušený dle technických směrnic a montážních návodů firmy Rittal Serial tested kit system for manufacturing of low voltage switchgear and control gear assemblies according to the technical specifications and assembly guide of Rittal configured, manufactured and tested 1 / 1
B4: Výrobce rozváděče: Switchgear assembly manufacturer: | D4: Vzor dokumentu. Plnou verzi vám rádi zašleme po registraci. | I4: Číslo dokumentu: Document-No.:
B5: Adresa: Address: | D5: Příčná 323 | I5: xxxxxxxxxxx
B6: PSČ, Město: Zip code, City: | D6: 111 50, Praha | I6: Název rozváděče: Switchgear name:
B7: Email: Email: | D7: Vaše emailová adresa | I7: RH1
B9: Použitá norma / Standard applied: | F9: ČSN EN IEC 61439-1 a 2: 2022 | L9: ✔
F10: IEC 61439-1 and 2: 2021
F11: ….....................................................
B12: Výběr, konfigurace, montáž a zkoušky probíhaly dle zadání firmy Rittal, dle následující dokumentace: Rittal Katalog 36, Publikace VX25 Ri4Power a Technický katalog systému VX25 Ri4Power.
B14: Selection, configuration, assembly and testing in according with specifications of Rittal as stated in the following documentation: Rittal Catalogue 36, VX25 Ri4Power brochures, assembly manual VX25 Ri4Power.
B16: Poznámka: / Remark:
B17: Kusové ověřování se neprovádí na přístrojích a samostatných součástech vestavěných do rozváděče, pokud byly zvoleny dle 8.5.3 (ČSN EN IEC 61439-1) a byly namontovány dle návodu výrobce přístroje.
B18: Routine verification is not required to be carried out on devices and self-contained components incorporated in the Assembly when they have been selected in accordance with 8.5.3 (of IEC 61439-1) and installed in accordance with the instructions of the device manufacturer.
B21: Popis Description | E21: Zadání Setting | F21: Výsledek Result | H21: Ověřující Auditor | J21: Datum Date
B22: Ověření dle 11.2 Stupeň ochrany skříní Verification acc. to 11.2 degree of protection | E22: IP54 | F22: IP54 | H22: ............... | J22: =TODAY() -> 45307
B23: Ověření dle 11.3 Vzdušné vzdálenosti Verification acc. to 11.3 Clearances distances | E23: > 5,5 mm (Uimp 6,0 kV) | F23: > 5,5 mm | H23: =$H$22 -> ............... | J23: =$B$33 -> 45307
B24: Ověření dle 11.3 Povrchové cesty Verification acc. to 11.3 Creepage distances | E24: ≥ 8,0 mm - Ui 500V, SZ 3, MS IIIa | F24: ≥ 8,0 mm | H24: =$H$22 -> ............... | J24: =$B$33 -> 45307
B25: Ověření dle 11.4 Ochrana před úrazem elektrickým proudem a integrita ochranných obvodů Verification acc. to 11.4 protection against electric shock and integrity of protective circuits | E25: OK | F25: ✔ | H25: =$H$22 -> ............... | J25: =$B$33 -> 45307
B26: Ověření dle 11.5 Vestavění vestavných součástí Verification acc. to 11.5 incorporation of built-in components | E26: OK | F26: ✔ | H26: =$H$22 -> ............... | J26: =$B$33 -> 45307
B27: Ověření dle 11.6 Vnitřní elektrické obvody a spoje Verification acc. to 11.6 internal electrical circuits and connections | E27: OK | F27: ✔ | H27: =$H$22 -> ............... | J27: =$B$33 -> 45307
B28: Ověření dle 11.7 Svorky pro vnější vodiče Verification acc. to 11.7 terminals for external conductors | E28: OK | F28: ✔ | H28: =$H$22 -> ............... | J28: =$B$33 -> 45307
B29: Ověření dle 11.8 Mechanická funkce Verification acc. to 11.8 mechanical operation | E29: OK | F29: ✔ | H29: =$H$22 -> ............... | J29: =$B$33 -> 45307
B30: Ověření dle 11.9 Dielektrické vlastnosti Verification acc. to 11.9 dielectric properties | E30: 1,89 kV / 300V<Ui≤690V | F30: ✔ | H30: =$H$22 -> ............... | J30: =$B$33 -> 45307
B31: Ověření dle 11.10 Zapojení, pracovní charakteristiky a funkce Verification acc. to 11.10 wiring, operational performance and function | E31: OK | F31: ✔ | H31: =$H$22 -> ............... | J31: =$B$33 -> 45307
B33: =TODAY() -> 45307 | D33: Jméno Příjmení / Funkce / ….................................
B34: Datum vystavení Date of issue | D34: Jméno / Funkce / Podpis Name / function / signature

Sheet 11.5-7
B2: Kusové ověřování / Routine Verification Doplněk ke kusovému ověřování (část 11.5 až 11.7 – ČSN EN IEC 61439-1 a 2) Supplement to routine verification (Section 11.5 to 11.5 - IEC 61439-1 and 2) 1/1
B4: Výrobce rozváděče: Switchgear assembly manufacturer: | D4: =RV!D4 -> Vzor dokumentu. Plnou verzi vám rádi zašleme po registraci. | F4: Číslo dokumentu: Document-No.:
B5: Adresa: Address: | D5: =RV!$D$5 -> Příčná 323 | F5: =RV!$I$5 -> xxxxxxxxxxx
B6: PSČ, Město: Zip code, City: | D6: =RV!$D$6 -> 111 50, Praha | F6: Název rozváděče: Switchgear name:
B7: Email: Email: | D7: =RV!$D$7 -> Vaše emailová adresa | F7: =RV!$I$7 -> RH1
B9: Kritérium Criteria | E9: Metoda Method | F9: Výsledek Evaluation
B10: Vestavění vestavných součástí (část 11.5 – ČSN EN IEC 61439-1) Incorporation of built-in components (Section 11.5 – IEC 61439-1)
B11: V souladu s výrobní dokumentací. Complies with the production documents. | E11: Vizuální prohlídka Visual inspection | F11: OK
B12: Snadná přístupnost pro nastavování a resetování. Easy access to adjusting and resetting devices. | E12: Vizuální prohlídka Visual inspection | F12: OK
B13: Bezpečné zakrytí ručně spínaných přístrojů. Safe covering for manually operated devices. | E13: Vizuální prohlídka Visual inspection | F13: OK
B14: Jasná identifikace poloh spínání pro spínací přístroje a součásti. Operating positions for operating equipment are clearly identified. | E14: Vizuální prohlídka Visual inspection | F14: OK
B15: Jasná identifikace směru činnosti. Direction of actuation for operating equipment clearly identified. | E15: Vizuální prohlídka Visual inspection | F15: OK
B16: Vnitřní elektrické obvody a spoje (část 11.6 – ČSN EN IEC 61439-1) Internal electrical circuits and connections (Section 11.6 – IEC 61439-1)
B17: El.připojení, přístroje a přípojnice odpovídají výrobní dokumentaci. Compliance of electrical connections, devices and busbars with the production documents. | E17: Namátková kontrola Random samples | F17: OK
B18: Kontrola utah. momentů a šrobových spojů a svorek. Check the tightening torque of screw and clamp connections. | E18: Namátková kontrola Random samples | F18: OK
B19: Svorky pro vnější vodiče (část 11.7 – ČSN EN IEC 61439-1) Terminals for external conductors (Section 11.7 – IEC 61439-1)
B20: Počet, průřez, typ a materiál vodičů odpovídá výr. dokumentaci. Number, cross section and conductor type in accordance to the production documents. | E20: Vizuální prohlídka Visual inspection | F20: OK
B21: Značení připojovacích míst odpovídá výrobní dokumentaci. Identification of the connection points complies with the documentation. | E21: Vizuální prohlídka Visual inspection | F21: OK
B22: Vizuál. prohlídka svorek pro vnější vodiče. Visual inspection of the terminals for external conductors. | E22: Vizuální prohlídka Visual inspection | F22: OK
B24: =RV!$B$33 -> 45307 | D24: =RV!$D$33 -> Jméno Příjmení / Funkce / ….................................
B25: Datum vystavení Date of issue | D25: Jméno / Funkce / Podpis Name / function / signature

Sheet List1
A1: --- | B1: --- | C1: --- | E1: --- | F1: --- | G1: --- | H1: --- | I1: --- | J1: ---
A2: OK | B2: A | C2: ✘ | E2: IP1X | F2: > 1,5 mm (Uimp ≤ 2,5 kV) | G2: > 1,5 mm | H2: ≥ 1,5 mm - Ui 32V, SZ 3, MS IIIa | I2: ≥ 1,5 mm | J2: 1,0 kV / Ui≤60V
A3: not OK | B3: B | C3: ✔ | D3: ✔ | E3: IP10 | F3: > 3,0 mm (Uimp 4,0 kV) | G3: > 3,0 mm | H3: ≥ 1,8 mm - Ui 40V, SZ 3, MS IIIa | I3: ≥ 1,8 mm | J3: 1,5 kV / 60V<Ui≤300V
E4: IP2X | F4: > 5,5 mm (Uimp 6,0 kV) | G4: > 5,5 mm | H4: ≥ 1,9 mm - Ui 50V, SZ 3, MS IIIa | I4: ≥ 1,9 mm | J4: 1,89 kV / 300V<Ui≤690V
E5: IP20 | F5: > 8,0 mm (Uimp 8,0 kV) | G5: > 8,0 mm | H5: ≥ 2,0 mm - Ui 63V, SZ 3, MS IIIa | I5: ≥ 2,0 mm | J5: 2,0 kV / 690V<Ui≤800V
E6: IP4X | F6: > 14,0 mm (Uimp 12,0 kV) | G6: > 14,0 mm | H6: ≥ 2,1 mm - Ui 80V, SZ 3, MS IIIa | I6: ≥ 2,1 mm | J6: 2,2 kV / 800V<Ui≤1.000V
E7: IP42 | H7: ≥ 2,2 mm - Ui 100V, SZ 3, MS IIIa | I7: ≥ 2,2 mm | J7: 2,7 kV / 1.000V<Ui≤1.500V
E8: IP43 | H8: ≥ 2,4 mm - Ui 125V, SZ 3, MS IIIa | I8: ≥ 2,4 mm | J8: 630A/500V-1MΩ(500V DC)
E9: IP44 | H9: ≥ 2,5 mm - Ui 160V, SZ 3, MS IIIa | I9: ≥ 2,5 mm
E10: IP54 | H10: ≥ 3,2 mm - Ui 110V, SZ 3, MS IIIa | I10: ≥ 3,2 mm
E11: IP55 | H11: ≥ 4,0 mm - Ui 250V, SZ 3, MS IIIa | I11: ≥ 4,0 mm
E12: IP66 | H12: ≥ 5,0 mm - Ui 320V, SZ 3, MS IIIa | I12: ≥ 5,0 mm
H13: ≥ 6,3 mm - Ui 400V, SZ 3, MS IIIa | I13: ≥ 6,3 mm
H14: ≥ 8,0 mm - Ui 500V, SZ 3, MS IIIa | I14: ≥ 8,0 mm
H15: ≥ 10 mm - Ui 630V, SZ 3, MS IIIa | I15: ≥ 10 mm
H16: ≥ 12,5 mm - Ui 800V, SZ 3, MS IIIa | I16: ≥ 12,5 mm
H17: ≥ 16 mm - Ui 1000V, SZ 3, MS IIIa | I17: ≥ 16 mm
H18: ≥ 20 mm - Ui 1250V, SZ 3, MS IIIa | I18: ≥ 20 mm
H19: ≥ 25 mm - Ui 1600V, SZ 3, MS IIIa | I19: ≥ 25 mm
