Workbook

Sheet HUF árlista 2019.10.16-tól
A6: Az árlista 2019. október 16-tól visszavonásig érvényes.
A7: Áraink az ÁFA-t nem tartalmazzák, az aktuális készletről kérjük érdeklődjön!
A8: Cikkszám | B8: Megnevezés | C8: Listaár
A9: 1001600 | B9: AE Kapcs.szekrény 200x300x120 nemesacél | C9: 63518
A10: 1002500 | B10: AE faliszekrény, 200X300X155, 1.4404 | C10: 117138
A11: 1002600 | B11: AE FALI KAPCS.SZ.,ROZSDAM.200X300X155 | C11: 72069
A12: 1003000 | B12: AX SZEKRÉNY, 300x300x210 mm, NEMESACÉL 1.4301 | C12: 79114
A13: 1003600 | B13: AE Kapcs.szekrény 300x300x210 nemesacél | C13: 79114
A14: 1004600 | B14: AE FALI KAPCS.SZ.,ROZSDAM.380X300X155 | C14: 83534
A15: 1005000 | B15: AX SZEKRÉNY, 300x380x210 mm, NEMESACÉL 1.4301 | C15: 88565
A16: 1005500 | B16: AE FALI KAPCS.SZ.,300X380X210, 1.4404 | C16: 155433
A17: 1005600 | B17: AE FALI KAPCS.SZ.,ROZSDAM.300X380X210 | C17: 88565
A18: 1006000 | B18: AX SZEKRÉNY, 380x380x210 mm, NEMESACÉL 1.4301 | C18: 97676
A19: 1006500 | B19: AE SZEKRÉNY, NEMESACÉL, 380x380x210 MM | C19: 159349
A20: 1006600 | B20: AE SZEKRÉNY, NEMESACÉL, 380x380x210mm | C20: 97676
... A798: 2506100 | B798: SZ DUGALJ, KALAPSÍNRE SZERELHETŐ 2DB/CS | C798: 5648
A799: 2506120 | C799: 5921
A800: 2507100 | B800: SZ CSATL.HÜVELY BETÁPLÁLÁSHOZ, 5 DB/CS. | C800: 12524
A801: 2507200 | B801: SZ DUGÓ AZ ÁTMENŐ HUZALOZÁSHOZ ,5 DB/CS. | C801: 13474
A802: 2507300 | B802: SZ T-ELOSZTÓ,3 PÓL.1 DUGÓ,2 HÜVELY,5 DB | C802: 10956
A803: 2507400 | B803: SZ CSATL.AJTÓHELYZET-KAPCSOLÓHOZ,5 DB/CS | C803: 6876
A804: 2507500 | B804: SZ CSATL.EGYSÉG, KISAUTOMATÁVAL, 10A | C804: 13304
A805: 2508010 | B805: SZ FALI TARTÓ, 10 MM, 4 DB/CS. | C805: 3927
A806: 2508100 | B806: SZ FALI RÖGZITÖFÜL, AE-HEZ, 4DB/CS | C806: 4538
A807: 2509000 | B807: SZ SZÁLLÍTÓFÜL, 4DB/CS | C807: 8890
A808: 2509010 | B808: AX Eyebolts | C808: 10668
A809: 2509500 | B809: CM EMELŐSZEMEK, 2 DB/CS. | C809: 4861
A810: 2510000 | B810: SZ MŰANYAG RAJZTARTÓ TASAK, DIN A4 | C810: 3449
A811: 2511500 | B811: SZ ESŐTETŐ, RAL7035 | C811: 33100
... A1201: 3209510 | B1201: SK RTT LWWT Dachaufbau 2500 W | C1201: 534952
A1202: 3209540 | C1202: 526361
A1203: 3209910 | B1203: SK LEVEGŐ/VÍZ HŐCSERÉLŐ, V4A, DAIMLER | C1203: 743434
A1204: 3210100 | B1204: SK LEVEGŐ/VÍZ HŐCSERÉLŐ, TETŐRE, 4000W | C1204: 568743
A1205: 3210110 | B1205: SK RTT LWWT Dachaufbau 4000 W | C1205: 667834
A1206: 3210140 | B1206: SK levegő/víz hőcserélő EGYEDI | C1206: 694181
A1207: 3210500 | B1207: SK LEVEGŐ/VÍZ HŐCSERÉLŐ, TETŐRE, 4000W | C1207: 650077
A1208: 3210510 | B1208: SK RTT LWWT Dachaufbau 4000 W | C1208: 734842
A1209: 3210540 | B1209: SK LEVEGŐ-VÍZ HŐCSERÉLŐ, TETŐ, | C1209: 726825
A1210: 3210910 | B1210: SK LEVEGŐ/VÍZ HŐCSERÉLŐ, DAIMLER | C1210: 911255
A1211: 3212024 | B1211: SK MICRO LEVEGŐ/VÍZ HŐCSERÉLŐ, 300W, 24V | C1211: 226238
A1212: 3212115 | B1212: SK MICRO LUFT/WASSER-WÄRMETAUSCHER | C1212: 218794
A1213: 3212230 | B1213: SK MIKRO LEVEGŐ/VÍZ HŐCSERÉLŐ,FALI BEÉP. | C1213: 215357
A1214: 3213300 | B1214: SK LÉGTERELŐ KLÍMÁHOZ | C1214: 17067
... A1317: 3273500 | B1317: SK TETŐKLÍMA, 1000 W ,230 V, 50/60 HZ | C1317: 896936
A1318: 3273515 | C1318: 952490
A1319: 3284210 | B1319: SK FÉM SZŰRŐBETÉT, KTS KLÍMAAJTÓHOZ | C1319: 25948
A1320: 3285250 | B1320: SK NACHRÜSTSATZ F.METALLFILTER | C1320: 52464
A1321: 3285800 | B1321: Filtermatte für SK 3185.830 | C1321: 7194
A1322: 3285810 | B1322: Fémszűrő SK 3185.830-hoz | C1322: 30301
A1323: 3285900 | B1323: SK SZŰRŐBETÉT 3186.930, 3187, 3188.940 | C1323: 8360
A1324: 3285910 | B1324: SK Metallfilter für SK 3186/87.930 | C1324: 37113
A1325: 3285920 | B1325: SK Szűrőbetét SK 3320.200 berendezéshez | C1325: 8360
A1326: 3285930 | B1326: SK Metallfilter für SK 3320.200 | C1326: 37113
A1327: 3285940 | B1327: SK Szűrőbetét Blue e+ Chillerhez | C1327: 9165
A1328: 3286100 | B1328: SK SZŰRŐBETÉT SK 3296/72-HÖZ,1S,3 DB/CS. | C1328: 5229
A1329: 3286110 | B1329: SK SZŰRŐBETÉT3302,300/3,190X95X10,3DB/CS | C1329: 5419
A1330: 3286120 | B1330: SK Fémszűrő 3302.300/310-hez | C1330: 25200
... A1451: 3311370 | B1451: SK Kondenzátor, 35kW, DX | C1451: 1498329
A1452: 3311390 | C1452: 5682305
A1453: 3311410 | B1453: LCP Rack DX, 12kW, 300x2000x1000 | C1453: 5137388
A1454: 3311420 | B1454: LCP Rack DX, 12kW, 300x2000x1200 | C1454: 5137388
A1455: 3311430 | B1455: LCP Inline DX, 12kW, 300x2000x1000 | C1455: 5137388
A1456: 3311440 | B1456: LCP Inline DX, 12kW, 300x2000x1200 | C1456: 5137388
A1457: 3311450 | B1457: LCP Inline DX, 35kW, 600x2000x1000 | C1457: 7205833
A1458: 3311470 | B1458: LCP Inline DX, 35kW, 600x2000x1200 | C1458: 7205833
A1459: 3311490 | B1459: SK LCU DX SPLIT-KLÍMA 3kW | C1459: 2805526
A1460: 3311491 | B1460: SK LCU DX SPLIT-KLÍMA 3kW red. | C1460: 4803172
A1461: 3311492 | B1461: SK LCU DX SPLIT KLÍMA, 6,5kW | C1461: 4054127
A1462: 3311493 | B1462: SK LCU DX SPLIT-KLÍMA 6,5kW red. | C1462: 5927031
A1463: 3311495 | B1463: Kältemittelleitungen fuer 3 kW Geraet | C1463: 305972
A1464: 3311496 | B1464: HŰTŐKÖZEG CSÖVEZÉS, LCU DX, 6,5kW, 20M | C1464: 324801
... A1552: 3373100 | B1552: SK LEVEGŐ/VÍZ HŐCSERÉLŐ, 2kW | C1552: 297832
A1553: 3373110 | C1553: 379734
A1554: 3373140 | B1554: SK LEVEGŐ/VÍZ HŐCSERÉLŐ, 2000W | C1554: 368279
A1555: 3373500 | B1555: SK RTT levegő víz hőcserélő fali 2000W | C1555: 365989
A1556: 3373510 | C1556: 439305
A1557: 3373540 | C1557: 428992
A1558: 3373910 | B1558: SK LWWT V4A NACH DAIMLER NORM | C1558: 707926
A1559: 3374100 | B1559: SK LEVEGŐ/VÍZ HŐCSERÉLŐ, 3kW | C1559: 371717
A1560: 3374110 | C1560: 453624
A1561: 3374140 | B1561: SK RTT LWWT WANDANBAU 3000W | C1561: 430714
A1562: 3374500 | B1562: SK LEVEGŐ/VÍZ HŐCSERÉLŐ, 3kW, KOMFORT | C1562: 442737
A1563: 3374510 | C1563: 521207
A1564: 3374540 | B1564: SK LEVEGŐ/VÍZ HŐCSERÉLŐ, OLDALFALI, 3 kW | C1564: 513764
A1565: 3375100 | B1565: SK LEVEGŐ/VÍZ HŐCSERÉLŐ, 5kW | C1565: 576767
A1566: 3375140 | C1566: 687306
A1567: 3375500 | B1567: SK LEVEGŐ/VÍZ HŐCSERÉLŐ, 5kW, KOMFORT | C1567: 663822
A1568: 3375510 | C1568: 761190
A1569: 3375540 | B1569: SK LEVEGŐ/VÍZ HŐCSERÉLŐ, 5kW | C1569: 734274
A1570: 3377000 | B1570: SK TAKARÓKERET KLÍMÁHOZ, 3366/3377.xxx | C1570: 95652
A1571: 3377500 | C1571: 966240
A1572: 3377540 | C1572: 1039551
A1573: 3378200 | B1573: LCP Industry II 10000 W D:600 mm | C1573: 1770961
A1574: 3378280 | B1574: LCP Industry II 10000 W D:800 mm | C1574: 1838544
A1575: 3382500 | B1575: SK TOP THERM TETŐKLÍMA,500 W,KOMFORTVEZ. | C1575: 537242
A1576: 3382510 | B1576: SK RTT blue e KÜHLGERÄT DACH 500W | C1576: 620865
A1577: 3382600 | B1577: SK Tetőklíma, 500W, nemesacél | C1577: 757185
A1578: 3382610 | C1578: 919846
A1579: 3383500 | B1579: SK TopTherm TETŐKLÍMA, 1000 W | C1579: 657521
A1580: 3383510 | B1580: SK RTT blue e KÜHLGERÄT DACH 1000W | C1580: 744581
...

Sheet Ajánlati lap
B2: Ügyfél által összeállított árajánlat
B3: Önnek csak a 7-jegyű cikkszámot (pont nélkül) és a mennyiséget kell beírnia, valamint az üres sorokat törölnie!
B5: Cég neve:
B6: Ügyintéző:
B7: Tel.:
B8: Fax:
B9: E-mail:
B10: Rendelési szám | C10: Mennyiség (db, cs) | D10: Listaár | E10: Érték | F10: Megnevezés
A11: 1 | D11: =VLOOKUP(B:B,'HUF árlista 2019.10.16-tól'!A:C,3,FALSE) -> #N/A | E11: =D11*C11 -> #N/A | F11: =VLOOKUP(B:B,'HUF árlista 2019.10.16-tól'!A:C,2,FALSE) -> #N/A
A12: 2 | D12: =VLOOKUP(B:B,'HUF árlista 2019.10.16-tól'!A:C,3,FALSE) -> #N/A | E12: =D12*C12 -> #N/A | F12: =VLOOKUP(B:B,'HUF árlista 2019.10.16-tól'!A:C,2,FALSE) -> #N/A
A13: 3 | D13: =VLOOKUP(B:B,'HUF árlista 2019.10.16-tól'!A:C,3,FALSE) -> #N/A | E13: =D13*C13 -> #N/A | F13: =VLOOKUP(B:B,'HUF árlista 2019.10.16-tól'!A:C,2,FALSE) -> #N/A
A14: 4 | D14: =VLOOKUP(B:B,'HUF árlista 2019.10.16-tól'!A:C,3,FALSE) -> #N/A | E14: =D14*C14 -> #N/A | F14: =VLOOKUP(B:B,'HUF árlista 2019.10.16-tól'!A:C,2,FALSE) -> #N/A
A15: 5 | D15: =VLOOKUP(B:B,'HUF árlista 2019.10.16-tól'!A:C,3,FALSE) -> #N/A | E15: =D15*C15 -> #N/A | F15: =VLOOKUP(B:B,'HUF árlista 2019.10.16-tól'!A:C,2,FALSE) -> #N/A
A16: 6 | D16: =VLOOKUP(B:B,'HUF árlista 2019.10.16-tól'!A:C,3,FALSE) -> #N/A | E16: =D16*C16 -> #N/A | F16: =VLOOKUP(B:B,'HUF árlista 2019.10.16-tól'!A:C,2,FALSE) -> #N/A
A17: 7 | D17: =VLOOKUP(B:B,'HUF árlista 2019.10.16-tól'!A:C,3,FALSE) -> #N/A | E17: =D17*C17 -> #N/A | F17: =VLOOKUP(B:B,'HUF árlista 2019.10.16-tól'!A:C,2,FALSE) -> #N/A
A18: 8 | D18: =VLOOKUP(B:B,'HUF árlista 2019.10.16-tól'!A:C,3,FALSE) -> #N/A | E18: =D18*C18 -> #N/A | F18: =VLOOKUP(B:B,'HUF árlista 2019.10.16-tól'!A:C,2,FALSE) -> #N/A
A19: 9 | D19: =VLOOKUP(B:B,'HUF árlista 2019.10.16-tól'!A:C,3,FALSE) -> #N/A | E19: =D19*C19 -> #N/A | F19: =VLOOKUP(B:B,'HUF árlista 2019.10.16-tól'!A:C,2,FALSE) -> #N/A
A20: 10 | D20: =VLOOKUP(B:B,'HUF árlista 2019.10.16-tól'!A:C,3,FALSE) -> #N/A | E20: =D20*C20 -> #N/A | F20: =VLOOKUP(B:B,'HUF árlista 2019.10.16-tól'!A:C,2,FALSE) -> #N/A
A21: 11 | D21: =VLOOKUP(B:B,'HUF árlista 2019.10.16-tól'!A:C,3,FALSE) -> #N/A | E21: =D21*C21 -> #N/A | F21: =VLOOKUP(B:B,'HUF árlista 2019.10.16-tól'!A:C,2,FALSE) -> #N/A
A22: 12 | D22: =VLOOKUP(B:B,'HUF árlista 2019.10.16-tól'!A:C,3,FALSE) -> #N/A | E22: =D22*C22 -> #N/A | F22: =VLOOKUP(B:B,'HUF árlista 2019.10.16-tól'!A:C,2,FALSE) -> #N/A
... A35: 25 | D35: =VLOOKUP(B:B,'HUF árlista 2019.10.16-tól'!A:C,3,FALSE) -> #N/A | E35: =D35*C35 -> #N/A | F35: =VLOOKUP(B:B,'HUF árlista 2019.10.16-tól'!A:C,2,FALSE) -> #N/A
A38: Összesen: | E38: =SUM(E11:E35) -> #N/A
A39: Kedvezmény: | D39: % | E39: =E38*C39/100 -> #N/A
A40: Végösszeg: | E40: =E38-E39 -> #N/A
