Workbook

Sheet HUF árlista 2019.10.16-tól
A6: Az árlista 2019. október 16-tól visszavonásig érvényes.
A7: Áraink az ÁFA-t nem tartalmazzák, az aktuális készletről kérjük érdeklődjön!
A8: Cikkszám | B8: Megnevezés | C8: Listaár
A9: 1001600 | B9: AE Kapcs.szekrény 200x300x120 nemesacél | C9: 63518
A10: 1002500 | B10: AE faliszekrény, 200X300X155, 1.4404 | C10: 117138
A11: 1002600 | B11: AE FALI KAPCS.SZ.,ROZSDAM.200X300X155 | C11: 72069
A12: 1003000 | B12: AX SZEKRÉNY, 300x300x210 mm, NEMESACÉL 1.4301 | C12: 79114
A13: 1003600 | B13: AE Kapcs.szekrény 300x300x210 nemesacél | C13: 79114
A14: 1004600 | B14: AE FALI KAPCS.SZ.,ROZSDAM.380X300X155 | C14: 83534
A15: 1005000 | B15: AX SZEKRÉNY, 300x380x210 mm, NEMESACÉL 1.4301 | C15: 88565
A16: 1005500 | B16: AE FALI KAPCS.SZ.,300X380X210, 1.4404 | C16: 155433
A17: 1005600 | B17: AE FALI KAPCS.SZ.,ROZSDAM.300X380X210 | C17: 88565
A18: 1006000 | B18: AX SZEKRÉNY, 380x380x210 mm, NEMESACÉL 1.4301 | C18: 97676
A19: 1006500 | B19: AE SZEKRÉNY, NEMESACÉL, 380x380x210 MM | C19: 159349
A20: 1006600 | B20: AE SZEKRÉNY, NEMESACÉL, 380x380x210mm | C20: 97676
... A798: 2506100 | B798: SZ DUGALJ, KALAPSÍNRE SZERELHETŐ 2DB/CS | C798: 5648
A799: 2506120 | C799: 5921
A800: 2507100 | B800: SZ CSATL.HÜVELY BETÁPLÁLÁSHOZ, 5 DB/CS. | C800: 12524
A801: 2507200 | B801: SZ DUGÓ AZ ÁTMENŐ HUZALOZÁSHOZ ,5 DB/CS. | C801: 13474
A802: 2507300 | B802: SZ T-ELOSZTÓ,3 PÓL.1 DUGÓ,2 HÜVELY,5 DB | C802: 10956
A803: 2507400 | B803: SZ CSATL.AJTÓHELYZET-KAPCSOLÓHOZ,5 DB/CS | C803: 6876
A804: 2507500 | B804: SZ CSATL.EGYSÉG, KISAUTOMATÁVAL, 10A | C804: 13304
A805: 2508010 | B805: SZ FALI TARTÓ, 10 MM, 4 DB/CS. | C805: 3927
A806: 2508100 | B806: SZ FALI RÖGZITÖFÜL, AE-HEZ, 4DB/CS | C806: 4538
A807: 2509000 | B807: SZ SZÁLLÍTÓFÜL, 4DB/CS | C807: 8890
A808: 2509010 | B808: AX Eyebolts | C808: 10668
A809: 2509500 | B809: CM EMELŐSZEMEK, 2 DB/CS. | C809: 4861
A810: 2510000 | B810: SZ MŰANYAG RAJZTARTÓ TASAK, DIN A4 | C810: 3449
A811: 2511500 | B811: SZ ESŐTETŐ, RAL7035 | C811: 33100
... A1201: 3209510 | B1201: SK RTT LWWT Dachaufbau 2500 W | C1201: 534952
A1202: 3209540 | C1202: 526361
A1203: 3209910 | B1203: SK LEVEGŐ/VÍZ HŐCSERÉLŐ, V4A, DAIMLER | C1203: 743434
A1204: 3210100 | B1204: SK LEVEGŐ/VÍZ HŐCSERÉLŐ, TETŐRE, 4000W | C1204: 568743
A1205: 3210110 | B1205: SK RTT LWWT Dachaufbau 4000 W | C1205: 667834
A1206: 3210140 | B1206: SK levegő/víz hőcserélő EGYEDI | C1206: 694181
A1207: 3210500 | B1207: SK LEVEGŐ/VÍZ HŐCSERÉLŐ, TETŐRE, 4000W | C1207: 650077
A1208: 3210510 | B1208: SK RTT LWWT Dachaufbau 4000 W | C1208: 734842
A1209: 3210540 | B1209: SK LEVEGŐ-VÍZ HŐCSERÉLŐ, TETŐ, | C1209: 726825
A1210: 3210910 | B1210: SK LEVEGŐ/VÍZ HŐCSERÉLŐ, DAIMLER | C1210: 911255
A1211: 3212024 | B1211: SK MICRO LEVEGŐ/VÍZ HŐCSERÉLŐ, 300W, 24V | C1211: 226238
...

Sheet Ajánlati lap
B2: Ügyfél által összeállított árajánlat
B3: Önnek csak a 7-jegyű cikkszámot (pont nélkül) és a mennyiséget kell beírnia, valamint az üres sorokat törölnie!
B5: Cég neve:
B6: Ügyintéző:
B7: Tel.:
B8: Fax:
B9: E-mail:
B10: Rendelési szám | C10: Mennyiség (db, cs) | D10: Listaár | E10: Érték | F10: Megnevezés
A11: 1 | D11: =VLOOKUP(B:B,'HUF árlista 2019.10.16-tól'!A:C,3,FALSE) -> #N/A | E11: =D11*C11 -> #N/A | F11: =VLOOKUP(B:B,'HUF árlista 2019.10.16-tól'!A:C,2,FALSE) -> #N/A
A12: 2 | D12: =VLOOKUP(B:B,'HUF árlista 2019.10.16-tól'!A:C,3,FALSE) -> #N/A | E12: =D12*C12 -> #N/A | F12: =VLOOKUP(B:B,'HUF árlista 2019.10.16-tól'!A:C,2,FALSE) -> #N/A
A13: 3 | D13: =VLOOKUP(B:B,'HUF árlista 2019.10.16-tól'!A:C,3,FALSE) -> #N/A | E13: =D13*C13 -> #N/A | F13: =VLOOKUP(B:B,'HUF árlista 2019.10.16-tól'!A:C,2,FALSE) -> #N/A
A14: 4 | D14: =VLOOKUP(B:B,'HUF árlista 2019.10.16-tól'!A:C,3,FALSE) -> #N/A | E14: =D14*C14 -> #N/A | F14: =VLOOKUP(B:B,'HUF árlista 2019.10.16-tól'!A:C,2,FALSE) -> #N/A
A15: 5 | D15: =VLOOKUP(B:B,'HUF árlista 2019.10.16-tól'!A:C,3,FALSE) -> #N/A | E15: =D15*C15 -> #N/A | F15: =VLOOKUP(B:B,'HUF árlista 2019.10.16-tól'!A:C,2,FALSE) -> #N/A
A16: 6 | D16: =VLOOKUP(B:B,'HUF árlista 2019.10.16-tól'!A:C,3,FALSE) -> #N/A | E16: =D16*C16 -> #N/A | F16: =VLOOKUP(B:B,'HUF árlista 2019.10.16-tól'!A:C,2,FALSE) -> #N/A
A17: 7 | D17: =VLOOKUP(B:B,'HUF árlista 2019.10.16-tól'!A:C,3,FALSE) -> #N/A | E17: =D17*C17 -> #N/A | F17: =VLOOKUP(B:B,'HUF árlista 2019.10.16-tól'!A:C,2,FALSE) -> #N/A
A18: 8 | D18: =VLOOKUP(B:B,'HUF árlista 2019.10.16-tól'!A:C,3,FALSE) -> #N/A | E18: =D18*C18 -> #N/A | F18: =VLOOKUP(B:B,'HUF árlista 2019.10.16-tól'!A:C,2,FALSE) -> #N/A
A19: 9 | D19: =VLOOKUP(B:B,'HUF árlista 2019.10.16-tól'!A:C,3,FALSE) -> #N/A | E19: =D19*C19 -> #N/A | F19: =VLOOKUP(B:B,'HUF árlista 2019.10.16-tól'!A:C,2,FALSE) -> #N/A
A20: 10 | D20: =VLOOKUP(B:B,'HUF árlista 2019.10.16-tól'!A:C,3,FALSE) -> #N/A | E20: =D20*C20 -> #N/A | F20: =VLOOKUP(B:B,'HUF árlista 2019.10.16-tól'!A:C,2,FALSE) -> #N/A
A21: 11 | D21: =VLOOKUP(B:B,'HUF árlista 2019.10.16-tól'!A:C,3,FALSE) -> #N/A | E21: =D21*C21 -> #N/A | F21: =VLOOKUP(B:B,'HUF árlista 2019.10.16-tól'!A:C,2,FALSE) -> #N/A
A22: 12 | D22: =VLOOKUP(B:B,'HUF árlista 2019.10.16-tól'!A:C,3,FALSE) -> #N/A | E22: =D22*C22 -> #N/A | F22: =VLOOKUP(B:B,'HUF árlista 2019.10.16-tól'!A:C,2,FALSE) -> #N/A
... A35: 25 | D35: =VLOOKUP(B:B,'HUF árlista 2019.10.16-tól'!A:C,3,FALSE) -> #N/A | E35: =D35*C35 -> #N/A | F35: =VLOOKUP(B:B,'HUF árlista 2019.10.16-tól'!A:C,2,FALSE) -> #N/A
A38: Összesen: | E38: =SUM(E11:E35) -> #N/A
A39: Kedvezmény: | D39: % | E39: =E38*C39/100 -> #N/A
A40: Végösszeg: | E40: =E38-E39 -> #N/A
